BEGIN:VCALENDAR
VERSION:2.0
PRODID:-//InnerlightbyEve - ECPv6.3.7//NONSGML v1.0//EN
CALSCALE:GREGORIAN
METHOD:PUBLISH
X-ORIGINAL-URL:https://innerlightbyeve.nl
X-WR-CALDESC:Evenementen voor InnerlightbyEve
REFRESH-INTERVAL;VALUE=DURATION:PT1H
X-Robots-Tag:noindex
X-PUBLISHED-TTL:PT1H
BEGIN:VTIMEZONE
TZID:Europe/Helsinki
BEGIN:DAYLIGHT
TZOFFSETFROM:+0200
TZOFFSETTO:+0300
TZNAME:EEST
DTSTART:20240331T010000
END:DAYLIGHT
BEGIN:STANDARD
TZOFFSETFROM:+0300
TZOFFSETTO:+0200
TZNAME:EET
DTSTART:20241027T010000
END:STANDARD
END:VTIMEZONE
BEGIN:VEVENT
DTSTART;TZID=Europe/Helsinki:20240121T130000
DTEND;TZID=Europe/Helsinki:20240121T170000
DTSTAMP:20260421T085145
CREATED:20231230T112612Z
LAST-MODIFIED:20231230T112718Z
UID:1584-1705842000-1705856400@innerlightbyeve.nl
SUMMARY:Tarotsessie Op Hodenpijl
DESCRIPTION:Op zondag 21 januari ben je van harte welkom bij Op Hodenpijl in Schipluiden voor een Tarot reading. \n\n\n\nTijdens een Tarotsessie krijg je de ruimte om even stil te staan bij jouw leven. Jij bepaalt waar je naar wilt kijken door voor jou belangrijke vragen te stellen. Vragen over relaties\, liefde\, werk en carrière\, persoonlijke ontwikkeling\, situaties in je leven\, te nemen besluiten of andere thema’s die spelen. Bij iedere kaart die jij trekt\, geef ik uitleg over de betekenis en deel ik boodschappen die ik via ‘channeling’ doorkrijg.  Deze boodschappen zijn verhelderend\, troostend\, vernieuwend\, motiverend en praktisch toepasbaar. Vaak zijn ze ook een bevestiging van wat je ergens al diep van binnen weet. \n\n\n\nEen kaartlezing is een bijzondere ervaring. Je ontvangt inzichten die je helpen om gebeurtenissen een plek te geven\, oude blokkades en patronen te doorbreken\, belangrijke besluiten te nemen en jouw leven richting te geven. Tijdens een sessie wordt er vaak op een dieper niveau iets aangeraakt wat daarna verder mag doorwerken in jou. Je kunt de sessie opnemen om later opnieuw terug te luisteren.Wil je helderheid in een bepaald thema of heb je verschillende vragen? Weet je niet welke stap(pen) op dit moment te maken? Of ben je gewoon nieuwsgierig? Je bent van harte welkom! \n\n\n\nTijden \n\n\n\nSessie 1 – 13:00-13:45Sessie 2 – 14:00-14:45Sessie 3 – 15:00-15:45Sessie 4 – 16:00-16:45 \n\n\n\nKosten \n\n\n\nDe kosten zijn 44 euro voor een individuele Tarotsessie van 45 minuten. \n\n\n\nReserveren \n\n\n\nMail naar info@innerlightbyeve.nl
URL:https://innerlightbyeve.nl/agenda/1584/
LOCATION:Op Hodenpijl\, Rijksstraatweg 20-22\, Schipluiden\, 2636 AX\, Nederland
ATTACH;FMTTYPE=image/jpeg:https://innerlightbyeve.nl/wp-content/uploads/2023/05/DSC00547-scaled.jpg
END:VEVENT
END:VCALENDAR