BEGIN:VCALENDAR
VERSION:2.0
PRODID:-//InnerlightbyEve - ECPv6.3.7//NONSGML v1.0//EN
CALSCALE:GREGORIAN
METHOD:PUBLISH
X-WR-CALNAME:InnerlightbyEve
X-ORIGINAL-URL:https://innerlightbyeve.nl
X-WR-CALDESC:Evenementen voor InnerlightbyEve
REFRESH-INTERVAL;VALUE=DURATION:PT1H
X-Robots-Tag:noindex
X-PUBLISHED-TTL:PT1H
BEGIN:VTIMEZONE
TZID:Europe/Helsinki
BEGIN:DAYLIGHT
TZOFFSETFROM:+0200
TZOFFSETTO:+0300
TZNAME:EEST
DTSTART:20220327T010000
END:DAYLIGHT
BEGIN:STANDARD
TZOFFSETFROM:+0300
TZOFFSETTO:+0200
TZNAME:EET
DTSTART:20221030T010000
END:STANDARD
END:VTIMEZONE
BEGIN:VEVENT
DTSTART;TZID=Europe/Helsinki:20220915T200000
DTEND;TZID=Europe/Helsinki:20220915T210000
DTSTAMP:20260424T023023
CREATED:20220724T092426Z
LAST-MODIFIED:20220724T093940Z
UID:988-1663272000-1663275600@innerlightbyeve.nl
SUMMARY:Groepsmeditatie
DESCRIPTION:Meditatie brengt innerlijke rust\, helpt tegen stress en versterkt het immuunsysteem. Je bent van harte welkom om te ervaren wat meditatie voor jou kan betekenen of om jouw meditatie verder te verdiepen. \n\nHeb je behoefte aan rust in je hoofd en lijf?\nWil je je concentratie en focus verbeteren?\nHeb je het gevoel dat je vastloopt in gedachten en patronen?\nVerlang je naar leven vanuit acceptatie?\nSta je open voor persoonlijke en spirituele ontwikkeling?\nWil je andere bewustzijnsniveaus ervaren?\n\nDe groepsmeditatie is een innerlijke reis waarin je mag voelen\, ervaren en jezelf mag verwonderen vanuit stilte en overgave. Ervaar volledige rust en kom tot diepere inzichten\, voorbij de gedachtestroom die constant onze aandacht vraagt. Het mediteren in een groep is een bijzondere ervaring en versterkt het effect van meditatie. \nIedere meditatiebijeenkomst behandel ik een ander thema en maak ik gebruik van verschillende technieken. Na de meditatie is er ruimte om\, als je daar behoefte aan hebt\, je ervaring te delen en vragen te stellen. \nPraktische informatieAanmelden via: info@innerlightbyeve.nl\, 06-43884157 of contactformulier op de website.Bijdrage voor deelname: 10 euro.Ervaring met meditatie is niet vereist.Trek comfortabele kleding aan. \nDe meditatiebijeenkomsten vinden iedere derde donderdag van de maand van 20:00 tot 21:00 plaats in Benoordenhout\, Den Haag. Volgende data: 20 okt\, 17 nov en 15 dec 2022. \nThere is a voice that doesn’t use words.Listen to silence. It has so much to say.Rumi
URL:https://innerlightbyeve.nl/agenda/meditatie-groep-den-haag/
LOCATION:benoordenhout den haag
ATTACH;FMTTYPE=image/jpeg:https://innerlightbyeve.nl/wp-content/uploads/2021/08/shutterstock_1063994864.jpg
END:VEVENT
BEGIN:VEVENT
DTSTART;TZID=Europe/Helsinki:20220918T140000
DTEND;TZID=Europe/Helsinki:20220918T180000
DTSTAMP:20260424T023023
CREATED:20220312T170720Z
LAST-MODIFIED:20220827T154331Z
UID:928-1663509600-1663524000@innerlightbyeve.nl
SUMMARY:Tarotsessie Op Hodenpijl
DESCRIPTION:Op zondag 18 september ben je welkom bij Op Hodenpijl in Schipluiden voor een tarotlezing. \n\n\n\nIk werk met het ‘Zen Tarot’ dat zich richt op het hier en nu en innerlijke bewustwording. De kaarten vertellen je niet wat of wanneer iets gaat gebeuren\, maar geven je inzicht in de weg ernaar toe.Tijdens een Tarot consult kun je vragen stellen over alles wat er speelt in jouw leven. Bij iedere kaart die jij trekt\, krijg je uitleg over de betekenis en deel ik boodschappen die ik doorkrijg. Tevens wordt je in contact gebracht met emotie\, intuïtie en innerlijke kracht en waarheid.Een Tarot lezing is een bijzondere ervaring die vaak dieper doorwerkt. Via de 79 prachtig geïllustreerde kaarten kom je spelenderwijs tot de mooiste inzichten. De verkregen inzichten helpen je om dingen een plek te geven\, oude patronen te doorbreken\, belangrijke besluiten te nemen en richting te bepalen. \n\n\n\nWil je meer inzicht in een bepaald thema\, heb je verschillende vragen of ben je gewoon nieuwsgierig? Je bent van harte welkom!Kosten: 30 euro (individuele sessie van 45 min.)Informatie: www.innerlightbyeve.nlAanmelding: info@innerlightbyeve.nl \n\n\n\n“Tarot tells the truths we don’t tell ourselves”
URL:https://innerlightbyeve.nl/agenda/tarot-consult-op-hodenpijl-5/
LOCATION:Op Hodenpijl\, Rijksstraatweg 20-22\, Schipluiden\, 2636 AX\, Nederland
ATTACH;FMTTYPE=image/jpeg:https://innerlightbyeve.nl/wp-content/uploads/2022/02/verkleind-2.jpg
END:VEVENT
BEGIN:VEVENT
DTSTART;TZID=Europe/Helsinki:20220925T100000
DTEND;TZID=Europe/Helsinki:20220925T160000
DTSTAMP:20260424T023023
CREATED:20220511T142239Z
LAST-MODIFIED:20220524T161327Z
UID:971-1664100000-1664121600@innerlightbyeve.nl
SUMMARY:Ontdek de vrouw en man in jou (vrouw-editie)
DESCRIPTION:Op zondag 25 september organiseert Eva Koornstra een bijeenkomst voor vrouwen bij Op Hodenpijl. \n\n\n\nWe hebben allemaal een vrouwelijke en mannelijke kant in ons. Het vrouwelijke helpt ons bij ‘voelen en zijn’ en is gericht naar binnen en op het huidige moment. Het mannelijke helpt ons bij ‘denken en doen’ en is naar buiten en toekomstgericht. Vaak is er sprake van een disbalans in deze energieën in onszelf. Herken je één van de volgende punten bij jezelf? \n\n\n\nJe hoofd en hart zijn vaak in tweestrijd.Je raakt in lastige situaties uit balans door emoties of gaat juist vanuit je hoofd in controle modus.Je doet niet altijd wat goed voelt of voelt jezelf niet meer terwijl je bezig bent.Je mag meer in je kracht gaan staan of je juist kwetsbaarder opstellen.Je bent vooral vooruit aan het denken en wil meer in het moment leven.Je vindt het lastig om ruimte in te nemen of juist te geven.Je hebt moeite met een juiste balans tussen geven en ontvangen.Je vertrouwt niet volledig op jezelf of op wat je voelt.Je benut niet je volle potentie of bent juist te doelgericht.\n\n\n\nTijdens deze dag gaan we met een groep vrouwen hiernaar kijken door onze innerlijke vrouw en man te ontmoeten en ervaren. Je krijgt inzicht in hoe de balans tussen jouw vrouwelijke en mannelijke energie verdeeld is. En hoe dit doorwerkt in jouw leven op het vlak van de relatie met jezelf\, (liefdes)relaties\, werk\, gedrag\, functioneren en de keuzes die je maakt. Je wordt je bewust van belemmerende overtuigingen en zult oude patronen doorbreken. Je komt in contact met jouw gevoel\, intuïtie en innerlijke (daad)kracht. Ook kijken we naar hoe vrouwelijke en mannelijke krachten in jou elkaar mogen aanvullen\, zodat jij je compleet kunt voelen en je jouw (liefde)volle potentie mag gaan leven. \n\n\n\nTijdens de bijeenkomst wordt theorie behandeld\, doe je interactieve (groeps)oefeningen en zul je worden begeleid in meditatie / visualisatie. Het ervaren op dieper niveau en samen delen staat tijdens de dag voorop. \n\n\n\nDeze dag is een mooie innerlijke reis waarin je\, vanuit kwetsbaarheid en kracht\, jezelf opnieuw mag ontmoeten. \n\n\n\nPraktische informatie:Datum en tijd: 25 september 2022 van 10:00 -16:00Locatie: in de serre van Op HodenpijlKosten deelname: 70 euro\, inclusief lunch en koffie/thee \n\n\n\nReserveren:Voor meer informatie of aanmelding voor deze bijeenkomst kun je contact opnemen met Eva Koornstra via info@innerlightbyeve.nl of 06-43884157.
URL:https://innerlightbyeve.nl/agenda/ontdek-de-vrouw-en-man-in-jou-vrouw-editie/
LOCATION:Op Hodenpijl\, Rijksstraatweg 20-22\, Schipluiden\, 2636 AX\, Nederland
ATTACH;FMTTYPE=image/jpeg:https://innerlightbyeve.nl/wp-content/uploads/2022/05/DSC00037-5-scaled-e1652278920280.jpg
END:VEVENT
END:VCALENDAR