BEGIN:VCALENDAR
VERSION:2.0
PRODID:-//InnerlightbyEve - ECPv6.3.7//NONSGML v1.0//EN
CALSCALE:GREGORIAN
METHOD:PUBLISH
X-WR-CALNAME:InnerlightbyEve
X-ORIGINAL-URL:https://innerlightbyeve.nl
X-WR-CALDESC:Evenementen voor InnerlightbyEve
REFRESH-INTERVAL;VALUE=DURATION:PT1H
X-Robots-Tag:noindex
X-PUBLISHED-TTL:PT1H
BEGIN:VTIMEZONE
TZID:Europe/Helsinki
BEGIN:DAYLIGHT
TZOFFSETFROM:+0200
TZOFFSETTO:+0300
TZNAME:EEST
DTSTART:20220327T010000
END:DAYLIGHT
BEGIN:STANDARD
TZOFFSETFROM:+0300
TZOFFSETTO:+0200
TZNAME:EET
DTSTART:20221030T010000
END:STANDARD
END:VTIMEZONE
BEGIN:VEVENT
DTSTART;TZID=Europe/Helsinki:20220818T200000
DTEND;TZID=Europe/Helsinki:20220818T210000
DTSTAMP:20260424T114144
CREATED:20220724T091510Z
LAST-MODIFIED:20220724T093603Z
UID:983-1660852800-1660856400@innerlightbyeve.nl
SUMMARY:Groepsmeditatie
DESCRIPTION:Meditatie brengt innerlijke rust\, helpt tegen stress en versterkt het immuunsysteem. Je bent van harte welkom om te ervaren wat meditatie voor jou kan betekenen of om jouw meditatie verder te verdiepen. \n\n\n\nHeb je behoefte aan ontspanning in je hoofd en lichaam?Wil je je concentratie en focus verbeteren?Heb je het gevoel dat je vastloopt in gedachten en patronen?Verlang je naar leven vanuit acceptatie?Sta je open voor persoonlijke en spirituele ontwikkeling?Wil je andere bewustzijnsniveaus ervaren?\n\n\n\nDe groepsmeditatie is een innerlijke reis waarin je mag voelen\, ervaren en jezelf mag verwonderen vanuit stilte en overgave. Ervaar volledige rust en kom tot diepere inzichten\, voorbij de gedachtestroom die constant onze aandacht vraagt. Het mediteren in een groep is een bijzondere ervaring en versterkt het effect van meditatie. \n\n\n\nIedere meditatiebijeenkomst behandel ik een ander thema en maak ik gebruik van verschillende technieken. Na de meditatie is er ruimte om\, als je daar behoefte aan hebt\, je ervaring te delen en vragen te stellen. \n\n\n\nPraktische informatieAanmelden via: info@innerlightbyeve.nl\, 06-43884157 of contactformulier op de website.Bijdrage voor deelname: 10 euro.Ervaring met meditatie is niet vereist.Trek comfortabele kleding aan. \n\n\n\nDe meditatiebijeenkomsten vinden iedere derde donderdag van de maand van 20:00 tot 21:00 plaats in Benoordenhout\, Den Haag. Volgende data: 15 sept\, 20 okt\, 17 nov en 15 dec 2022. \n\n\n\nMeditatie is niets anders dan aanwezig zijn in het moment en te observeren wat er binnen en buiten je gebeurt.Hier kun je op elk moment van de dag naartoe.
URL:https://innerlightbyeve.nl/agenda/meditatie-groep-2/
LOCATION:benoordenhout den haag
ATTACH;FMTTYPE=image/jpeg:https://innerlightbyeve.nl/wp-content/uploads/2021/04/eva-tarot-kaartlegging-20-juni.jpg
END:VEVENT
BEGIN:VEVENT
DTSTART;TZID=Europe/Helsinki:20220821T140000
DTEND;TZID=Europe/Helsinki:20220821T180000
DTSTAMP:20260424T114144
CREATED:20220312T165818Z
LAST-MODIFIED:20220312T170250Z
UID:925-1661090400-1661104800@innerlightbyeve.nl
SUMMARY:TAROT CONSULT OP HODENPIJL
DESCRIPTION:Ik werk met het ‘Osho Zen’ Tarot kaartendeck dat vooral inzicht geeft in het hier-en-nu. We leren van het verleden en de toekomst ligt voor ons open. Het huidige moment is het belangrijkst\, van waaruit we ons leven bewust vorm kunnen geven. \n\n\n\nEen Tarotlezing is vaak een bijzondere ervaring die dieper doorwerkt. Het helpt je om begrip en inzicht te krijgen in (levens)vragen of situaties. De mogelijkheden van Tarot zijn oneindig. Je kunt je wenden tot de Tarot met vragen over: relaties\, liefde\, werk en carrière\, (zakelijke) besluiten\, persoonlijke ontwikkeling of andere thema’s die spelen in jouw leven. \n\n\n\nDe nadruk tijdens een consult ligt op innerlijke bewustwording. De kaarten vertellen je niet wat of wanneer iets gaat gebeuren en wat je moet doen\, maar geven je inzicht in de weg ernaartoe. De Tarot laat zien wat aandacht nodig heeft en wat jij zelf kunt doen om situaties op positieve wijze te veranderen.  \n\n\n\nTijdens een Tarotconsult is er ruimte om jouw vragen te stellen. Bij iedere kaart die jij trekt\, geef ik uitleg over de betekenis en deel ik de boodschappen die ik doorkrijg. Aan het einde van het consult kijken we samen terug. De verkregen inzichten nodigen je uit om situaties een plek te geven\, oude patronen te doorbreken\, belangrijke besluiten te nemen en verdere richting te bepalen.Wil je inzicht in een bepaald thema\, heb je verschillende vragen of ben je gewoon nieuwsgierig? Je bent van harte welkom! \n\n\n\nKosten: 30 euro (individuele sessie van 45 min.)Informatie: www.innerlightbyeve.nlAanmelding: info@innerlightbyeve.nl \n\n\n\n                     \n\n\n\n                      “If we knew the future\, we would neglect the present moment                                            and would not act with the same freedom”.  \n\n\n\nAllan Kardec
URL:https://innerlightbyeve.nl/agenda/tarot-consult-op-hodenpijl-4/
ATTACH;FMTTYPE=image/jpeg:https://innerlightbyeve.nl/wp-content/uploads/2022/03/shutterstock_147972407.jpg
END:VEVENT
END:VCALENDAR