BEGIN:VCALENDAR
VERSION:2.0
PRODID:-//InnerlightbyEve - ECPv6.3.7//NONSGML v1.0//EN
CALSCALE:GREGORIAN
METHOD:PUBLISH
X-WR-CALNAME:InnerlightbyEve
X-ORIGINAL-URL:https://innerlightbyeve.nl
X-WR-CALDESC:Evenementen voor InnerlightbyEve
REFRESH-INTERVAL;VALUE=DURATION:PT1H
X-Robots-Tag:noindex
X-PUBLISHED-TTL:PT1H
BEGIN:VTIMEZONE
TZID:Europe/Helsinki
BEGIN:DAYLIGHT
TZOFFSETFROM:+0200
TZOFFSETTO:+0300
TZNAME:EEST
DTSTART:20220327T010000
END:DAYLIGHT
BEGIN:STANDARD
TZOFFSETFROM:+0300
TZOFFSETTO:+0200
TZNAME:EET
DTSTART:20221030T010000
END:STANDARD
END:VTIMEZONE
BEGIN:VEVENT
DTSTART;TZID=Europe/Helsinki:20220515T140000
DTEND;TZID=Europe/Helsinki:20220515T180000
DTSTAMP:20260424T213200
CREATED:20220312T155609Z
LAST-MODIFIED:20220312T155611Z
UID:904-1652623200-1652637600@innerlightbyeve.nl
SUMMARY:TAROTKAART CONSULT 15 MEI
DESCRIPTION:Als het leven ons met zorgen\, onzekerheden en vragen vult\, gaan we op zoek naar antwoorden. We vragen ons af wat er in de toekomst gaat gebeuren en willen het verleden verklaren. Dat is de manier waarop traditionele tarotkaarten vaak worden gebruikt. \n\n\n\nIk gebruik het Osho Zen Tarot dat zich richt op het hier en nu. Het is gebaseerd op de Zen wijsheid die ons vertelt dat gebeurtenissen in de buitenwereld onze eigen gedachten en gevoelens reflecteren. Zen tarot helpt om de aandacht af te wenden van wat er buiten ons gebeurt en brengt je in contact met wat er in je hart afspeelt. Tijdens een tarotkaart consult is er ruimte om vragen te stellen over alles wat op dit moment speelt in je leven. Bij iedere kaart die jij trekt\, deel ik wat ik doorkrijg en geef ik uitleg. De betekenis van de kaarten is makkelijk te begrijpen door haar symbolische afbeeldingen en woorden. Gedurende de sessie breng ik je ook in contact met je gevoel\, intuïtie en innerlijke kracht en waarheid. De nadruk ligt op het innerlijk bewust worden. Aan het einde van de kaartlezing kijken we samen terug op de ontvangen antwoorden.  \n\n\n\nEen Zen tarotkaart lezing is vaak een bijzondere ervaring die dieper doorwerkt. Het brengt begrip en inzicht in belangrijke levensvragen of lastige situaties. De verkregen inzichten nodigen je uit om dingen een plek te geven\, oude patronen te doorbreken\, belangrijke besluiten te nemen en je eigen richting te bepalen.  \n\n\n\nEen sessie duurt 45 minuten en de bijdrage is 30 euro.  \n\n\n\nReserveren Je kunt reserveren door te mailen naar info@innerlightbyeve.nl
URL:https://innerlightbyeve.nl/agenda/tarotkaart-consult-15-mei/
LOCATION:Op Hodenpijl\, Rijksstraatweg 20-22\, Schipluiden\, 2636 AX\, Nederland
ATTACH;FMTTYPE=image/jpeg:https://innerlightbyeve.nl/wp-content/uploads/2022/03/verkleind-4.jpg
END:VEVENT
BEGIN:VEVENT
DTSTART;TZID=Europe/Helsinki:20220520T200000
DTEND;TZID=Europe/Helsinki:20220520T213000
DTSTAMP:20260424T213200
CREATED:20220312T160509Z
LAST-MODIFIED:20220312T161551Z
UID:907-1653076800-1653082200@innerlightbyeve.nl
SUMMARY:GROEPSMEDITATIE 20 mei
DESCRIPTION:Op vrijdagavond 20 mei ben je welkom voor een groepsmeditatie in Den Haag. \n\n\n\nHeb je behoefte aan rust in je hoofd?Wil je je concentratie en focus verbeteren?Heb je het gevoel dat je vastloopt in patronen en wil je nieuwe inzichten verkrijgen?Verlang je naar rust in je lichaam?Wil je leven vanuit acceptatie?Heb je interesse in spiritualiteit en sta je open voor contact met andere bewustzijnsniveaus? \n\n\n\nJe bent van harte welkom om te ervaren wat meditatie voor jou kan betekenen of om jouw meditatie verder te verdiepen. \n\n\n\nDe groepsmeditaties zijn een innerlijke reis waarin je mag voelen\, ervaren en jezelf mag verwonderen. Ervaar volledige rust en kom tot nieuwe inzichten voorbij de gedachtestroom die constant onze aandacht vraagt. Het mediteren in een groep is een bijzondere ervaring en versterkt het effect van meditatie. \n\n\n\nTijdens iedere bijeenkomst behandel ik een ander thema. Na de meditatie is er ruimte om\, als je daar behoefte aan hebt\, je ervaring te delen en vragen te stellen. \n\n\n\nPraktische informatieDe meditatiebijeenkomsten vinden iedere derde vrijdag van 20:00 tot 21:30 plaats in Benoordenhout\, Den Haag.Ervaring met meditatie is niet vereist.Trek comfortabele kleding aan.Bijdrage voor deelname: 10 euro.Je kunt je vooraf aanmelden via: info@innerlightbyeve.nl of via het contactformulier op de website.
URL:https://innerlightbyeve.nl/agenda/groepsmeditatie-20-mei/
ATTACH;FMTTYPE=image/jpeg:https://innerlightbyeve.nl/wp-content/uploads/2022/03/foto-Lotus-2.jpg
END:VEVENT
END:VCALENDAR