BEGIN:VCALENDAR
VERSION:2.0
PRODID:-//InnerlightbyEve - ECPv6.3.7//NONSGML v1.0//EN
CALSCALE:GREGORIAN
METHOD:PUBLISH
X-WR-CALNAME:InnerlightbyEve
X-ORIGINAL-URL:https://innerlightbyeve.nl
X-WR-CALDESC:Evenementen voor InnerlightbyEve
REFRESH-INTERVAL;VALUE=DURATION:PT1H
X-Robots-Tag:noindex
X-PUBLISHED-TTL:PT1H
BEGIN:VTIMEZONE
TZID:Europe/Helsinki
BEGIN:DAYLIGHT
TZOFFSETFROM:+0200
TZOFFSETTO:+0300
TZNAME:EEST
DTSTART:20220327T010000
END:DAYLIGHT
BEGIN:STANDARD
TZOFFSETFROM:+0300
TZOFFSETTO:+0200
TZNAME:EET
DTSTART:20221030T010000
END:STANDARD
END:VTIMEZONE
BEGIN:VEVENT
DTSTART;TZID=Europe/Helsinki:20220123T130000
DTEND;TZID=Europe/Helsinki:20220123T170000
DTSTAMP:20260421T123637
CREATED:20211126T164448Z
LAST-MODIFIED:20211127T134344Z
UID:847-1642942800-1642957200@innerlightbyeve.nl
SUMMARY:Tarotsessies - zondag 23 januari
DESCRIPTION:Stel jouw vragen aan de Tarot en start 2022 met mooie nieuwe inzichten! \n\n\n\nWil je inzicht in een bepaald thema\, heb je verschillende vragen of ben je gewoon nieuwsgierig? Je bent van harte welkom voor een individuele Tarotsessie met Eva in een Tube op het prachtige landgoed La Vidaa . \n\n\n\nDe Tarot kun je het beste vergelijken met een spiegel die het onderbewuste -onze innerlijke wijsheid- naar de oppervlakte van ons bewustzijn brengt. \n\n\n\nEen Tarotlezing helpt je om begrip en inzicht te krijgen in situaties of (levens)vragen. De mogelijkheden van Tarot zijn oneindig. Je kunt je wenden tot de Tarot met vragen over: relaties\, liefde\, werk en carrière\, (zakelijke) besluiten\, persoonlijke ontwikkeling of andere thema’s die spelen in jouw leven. \n\n\n\nDe nadruk tijdens een consult ligt op innerlijke bewustwording. De kaarten vertellen je niet wat of wanneer iets gaat gebeuren\, maar geven inzicht in de weg ernaar toe. De Tarot laat zien wat jij zelf kunt doen om situaties op positieve wijze te veranderen. \n\n\n\nTijdens een Tarotconsult is er ruimte om jouw vragen te stellen. Bij iedere kaart die jij trekt\, krijg je uitleg over de betekenis en deelt Eva de boodschappen die ze doorkrijgt. De verkregen inzichten nodigen je uit om situaties een plek te geven\, oude patronen te doorbreken\, belangrijke besluiten te nemen en jouw verdere richting te bepalen.Duur individuele sessie: 45 minutenKosten: 30 EuroAanmelding: info@innerlightbyeve.nlMeer informatie: www.innerlightbyeve.nlHet is ook mogelijk om iemand een sessie cadeau te geven via een Tarot cadeaubon. Eva verzorgt  tevens Tarotconsulten op locatie\, bijvoorbeeld tijdens een verjaardag of (zakelijke) bijeenkomst. \n\n\n\nDe tarot is een verhalenboek van ons leven\, de spiegel van onze ziel\,en de sleutel tot onze innerlijke wijsheid.Het is een opening tot je onderbewustzijn en een kans omde kennis en antwoorden te vinden die in jou aanwezig zijn.
URL:https://innerlightbyeve.nl/agenda/tarotsessies-la-vidaa/
LOCATION:Landgoed Vidaa\, Hoeksekade 162\, Bergschenhoek\, 2661JL\, Nederland
ATTACH;FMTTYPE=image/jpeg:https://innerlightbyeve.nl/wp-content/uploads/2021/11/IMG_6456-1.jpg
END:VEVENT
END:VCALENDAR