BEGIN:VCALENDAR
VERSION:2.0
PRODID:-//InnerlightbyEve - ECPv6.3.7//NONSGML v1.0//EN
CALSCALE:GREGORIAN
METHOD:PUBLISH
X-ORIGINAL-URL:https://innerlightbyeve.nl
X-WR-CALDESC:Evenementen voor InnerlightbyEve
REFRESH-INTERVAL;VALUE=DURATION:PT1H
X-Robots-Tag:noindex
X-PUBLISHED-TTL:PT1H
BEGIN:VTIMEZONE
TZID:Europe/Helsinki
BEGIN:DAYLIGHT
TZOFFSETFROM:+0200
TZOFFSETTO:+0300
TZNAME:EEST
DTSTART:20240331T010000
END:DAYLIGHT
BEGIN:STANDARD
TZOFFSETFROM:+0300
TZOFFSETTO:+0200
TZNAME:EET
DTSTART:20241027T010000
END:STANDARD
END:VTIMEZONE
BEGIN:VEVENT
DTSTART;TZID=Europe/Helsinki:20240417T200000
DTEND;TZID=Europe/Helsinki:20240417T210000
DTSTAMP:20260421T030425
CREATED:20240414T135715Z
LAST-MODIFIED:20240414T135716Z
UID:1637-1713384000-1713387600@innerlightbyeve.nl
SUMMARY:Bewustzijnsavond @ Maasland
DESCRIPTION:Iedere 3e woensdag van de maand ben je welkom voor ‘de Bewuste leeuw’ bewustzijnsavond in Maasland. \n\n\n\nTijdens deze avonden krijg je de ruimte voor bewustwording door middel van meditaties\, oefeningen\, innerlijke reflectie\, gesprek\, etc. Met deze interactieve vorm bieden we ruimte voor jouw eigen bewustwordingsproces en -groei. En tevens een plek om samen te komen en te delen met gelijkgestemden. \n\n\n\nOp woensdag 17 april komen we weer samen voor een bewustzijnsavond. Op deze avond worden we ons bewust van de levensdromen uit onze kindertijd. Dit doen we via een begeleide visualisatie door Eva met een schrijfoefening erna. Na de oefening is er ruimte voor het delen van ervaringen en eventuele vragen. Deze avond eindigt met een uitleg over Human Design ter voorbereiding op de volgende bijeenkomst waar we aan de slag gaan met ons persoonlijke Human design profiel. \n\n\n\nInloop 19:45uStart 20:00uEinde 21:00uNapraten 21:00u \n\n\n\nDe kosten zijn €10\,00 p.p. Te voldoen via een tikkie achteraf. \n\n\n\nVoor meer informatie of aanmelding: info@innerlightbyeve.nl
URL:https://innerlightbyeve.nl/agenda/bewustzijnsavond-maasland/
LOCATION:maasland\, Maasland\, Nederland
ATTACH;FMTTYPE=image/jpeg:https://innerlightbyeve.nl/wp-content/uploads/2024/04/DSC079352-scaled.jpg
END:VEVENT
BEGIN:VEVENT
DTSTART;TZID=Europe/Helsinki:20240512T100000
DTEND;TZID=Europe/Helsinki:20240512T140000
DTSTAMP:20260421T030425
CREATED:20240404T075021Z
LAST-MODIFIED:20240404T082135Z
UID:1601-1715508000-1715522400@innerlightbyeve.nl
SUMMARY:Tarotsessie Op Hodenpijl
DESCRIPTION:Op zondag 12 mei ben je van harte welkom bij Op Hodenpijl in Schipluiden voor een Tarot reading. \n\n\n\nIk werk met het ‘Zen Tarot’ dat zich richt op het hier en nu en innerlijke bewustwording. De kaarten vertellen je niet wat of wanneer iets gaat gebeuren\, maar geven je inzicht in de weg ernaar toe.Tijdens een Tarot consult kun je vragen stellen over alles wat er speelt in jouw leven. Bij iedere kaart die jij trekt\, krijg je uitleg over de betekenis en deel ik boodschappen die ik doorkrijg. Tevens wordt je in contact gebracht met emotie\, intuïtie en innerlijke kracht en waarheid.Een Tarot lezing is een bijzondere ervaring die vaak dieper doorwerkt. Via de 79 prachtig geïllustreerde Tarotkaarten kom je spelenderwijs tot de mooiste inzichten. De verkregen inzichten helpen je om dingen een plek te geven\, oude patronen te doorbreken\, belangrijke besluiten te nemen en richting te bepalen. \n\n\n\nWil je meer inzicht in een bepaald thema\, heb je verschillende vragen of ben je gewoon nieuwsgierig? Je bent van harte welkom! \n\n\n\nTijden \n\n\n\nSessie 1 – 10:00 – 10:45Sessie 2 – 11:00 – 11:45Sessie 3 – 12:00 – 12:45Sessie 4 – 13:00 – 13:45 \n\n\n\nKosten \n\n\n\nDe kosten zijn 44 euro voor een individuele Tarotsessie van 45 minuten. \n\n\n\nReserveren \n\n\n\nMail naar info@innerlightbyeve.nl
URL:https://innerlightbyeve.nl/agenda/tarotsessie-op-hodenpijl-17/
LOCATION:Op Hodenpijl\, Rijksstraatweg 20-22\, Schipluiden\, 2636 AX\, Nederland
ATTACH;FMTTYPE=image/jpeg:https://innerlightbyeve.nl/wp-content/uploads/2022/12/comparison-2.jpg
END:VEVENT
BEGIN:VEVENT
DTSTART;TZID=Europe/Helsinki:20240519T100000
DTEND;TZID=Europe/Helsinki:20240520T180000
DTSTAMP:20260421T030425
CREATED:20240404T084002Z
LAST-MODIFIED:20240404T084401Z
UID:1629-1716112800-1716228000@innerlightbyeve.nl
SUMMARY:Tarot @ Campfire Spirit Festival
DESCRIPTION:Op 19 en 20 mei ben ik aanwezig op het ‘ Campfire spirit festival’ op landgoed Vidaa in Bergschenhoek.  \n\n\n\nTwee dagen kun je hier verbinden met jezelf\, elkaar en de natuur. Van inspirerende sprekers tot yoga\, van vuurlopen tot gongsessies\, activiteiten voor kinderen\, verschillende therapievormen\, met zuivere lekkernijen en natuurlijk mogen creatieve kraampjes niet ontbreken op dit festival. \n\n\n\nOp het festival ben je van harte welkom om kennis te maken met het Zen Tarot!In een korte Tarotsessie met mij word je uitgenodigd tot innerlijke bewustwording. Je krijgt inzicht in wat jouw aandacht vraagt en wat je kunt doen om iets te verwezenlijken of te veranderen. Tijdens de sessie stel je voor jou belangrijke (levens)vragen. Bij iedere kaart die jij trekt\, deel ik de boodschappen die ik doorkrijg en krijg je uitleg over de betekenis van de kaart. Deze inzichten helpen je om gebeurtenissen een plek te geven\, oude blokkades en patronen te doorbreken\, belangrijke besluiten te nemen en je leven richting te geven. Vaak wordt op een dieper niveau iets aangeraakt wat verder mag doorwerken in jou.Voor meer info: https://vidaa.nl/campfire-spirit-festival/
URL:https://innerlightbyeve.nl/agenda/campfire-spirit-festival/
LOCATION:Landgoed Vidaa\, Hoeksekade 162\, Bergschenhoek\, 2661JL\, Nederland
ATTACH;FMTTYPE=image/jpeg:https://innerlightbyeve.nl/wp-content/uploads/2022/12/flowering.jpg
END:VEVENT
BEGIN:VEVENT
DTSTART;TZID=Europe/Helsinki:20240609T100000
DTEND;TZID=Europe/Helsinki:20240609T140000
DTSTAMP:20260421T030425
CREATED:20240404T080153Z
LAST-MODIFIED:20240404T080156Z
UID:1608-1717927200-1717941600@innerlightbyeve.nl
SUMMARY:Tarotsessie Op Hodenpijl
DESCRIPTION:Op zondag 9 juni ben je van harte welkom bij Op Hodenpijl in Schipluiden voor een Tarot reading. \n\n\n\nTijdens een Tarotsessie krijg je de ruimte om even stil te staan bij jouw leven. Jij bepaalt waar je naar wilt kijken door voor jou belangrijke vragen te stellen. Vragen over relaties\, liefde\, werk en carrière\, persoonlijke ontwikkeling\, situaties in je leven\, te nemen besluiten of andere thema’s die spelen. Bij iedere kaart die jij trekt\, geef ik uitleg over de betekenis en deel ik boodschappen die ik via ‘channeling’ doorkrijg.  Deze boodschappen zijn verhelderend\, troostend\, vernieuwend\, motiverend en praktisch toepasbaar. Vaak zijn ze ook een bevestiging van wat je ergens al diep van binnen weet. \n\n\n\nEen kaartlezing is een bijzondere ervaring. Je ontvangt inzichten die je helpen om gebeurtenissen een plek te geven\, oude blokkades en patronen te doorbreken\, belangrijke besluiten te nemen en jouw leven richting te geven. Tijdens een sessie wordt er vaak op een dieper niveau iets aangeraakt wat daarna verder mag doorwerken in jou. Je kunt de sessie opnemen om later opnieuw terug te luisteren.Wil je helderheid in een bepaald thema of heb je verschillende vragen? Weet je niet welke stap(pen) op dit moment te maken? Of ben je gewoon nieuwsgierig? Je bent van harte welkom! \n\n\n\nTijden \n\n\n\nSessie 1 – 10:00 – 10:45Sessie 2 – 11:00 – 11:45Sessie 3 – 12:00 – 12:45Sessie 4 – 13:00 – 13:45 \n\n\n\nKosten \n\n\n\nDe kosten zijn 44 euro voor een individuele Tarotsessie van 45 minuten. \n\n\n\nReserveren \n\n\n\nMail naar info@innerlightbyeve.nl
URL:https://innerlightbyeve.nl/agenda/tarotsessie-op-hodenpijl-18/
LOCATION:Op Hodenpijl\, Rijksstraatweg 20-22\, Schipluiden\, 2636 AX\, Nederland
ATTACH;FMTTYPE=image/jpeg:https://innerlightbyeve.nl/wp-content/uploads/2022/03/verkleind-4.jpg
END:VEVENT
BEGIN:VEVENT
DTSTART;TZID=Europe/Helsinki:20240704T190000
DTEND;TZID=Europe/Helsinki:20240704T220000
DTSTAMP:20260421T030425
CREATED:20240514T091645Z
LAST-MODIFIED:20240514T091646Z
UID:1644-1720119600-1720130400@innerlightbyeve.nl
SUMMARY:Tarot workshop met Anne & Eva
DESCRIPTION:De wereld van Tarot \n\n\n\nWanneer / 4 juli 19:00 – 22:00Wat mee te nemen / je eigen set tarotkaartenInvestering / 66 euroLocatie / Clingendael\, Den Haag \n\n\n\nHeb je thuis een set tarotkaarten liggen en altijd je er altijd al in willen verdiepen maar weet je niet zo goed waar te beginnen? Of doe je vaak leggingen voor jezelf\, maar vind je het spannend om leggingen aan anderen te geven? Op donderdagavond 4 juli kun je een diepere band tussen jou en je kaarten ontwikkelen. \n\n\n\nWe zijn blij om je te verwelkomen op deze bijzondere avond waar we samen in de prachtige wereld van Tarot gaan duiken. Wij zijn Eva en Anne\, en werken al jaren met Tarotkaarten. In ons eigen leven én die van anderen\, allebei op onze eigen unieke wijze. De kaarten hebben ons al zoveel gebracht. We kijken ernaar uit om onze ervaring en kennis met jullie te delen. We nemen je mee in een reis naar binnen\, vanuit die krachtige verbinding met jezelf kan jij op deze avond jouw eigen unieke wijze van tarotleggingen ontdekken. \n\n\n\n> Raak geinspireerd door leuke\, speelse oefeningen met de tarotkaarten.> Leer jezelf beter kennen door intuitief en interactief met de kaarten bezig te zijn.> Doe ervaring op met leggingen geven door met elkaar op speelse wijze te oefenen. \n\n\n\nJe gaat naar huis met verdiepende opdrachten\, een gevoel van verbinding tussen jezelf en je kaarten en met zelfvertrouwen om de kaarten in je eigen leven te gebruiken én anderen ermee te helpen en te inspireren. \n\n\n\nKom je ook? Stuur een berichtje om een plekje te reserveren voor deze avond. We werken graag met een kleine groep van maximaal 6 personen/ \n\n\n\nWarme groet\, Eva & Anne
URL:https://innerlightbyeve.nl/agenda/tarot-workshop-met-anne-eva/
LOCATION:Benoordenhout\, Benoordenhout\, Den Haag\, Zuid-Holland\, Nederland
ATTACH;FMTTYPE=image/jpeg:https://innerlightbyeve.nl/wp-content/uploads/2024/05/Anne-Eva.jpg
END:VEVENT
BEGIN:VEVENT
DTSTART;TZID=Europe/Helsinki:20240707T100000
DTEND;TZID=Europe/Helsinki:20240707T140000
DTSTAMP:20260421T030425
CREATED:20240404T080424Z
LAST-MODIFIED:20240404T080822Z
UID:1611-1720346400-1720360800@innerlightbyeve.nl
SUMMARY:Tarotsessie Op Hodenpijl
DESCRIPTION:Op zondag 7 juli ben je van harte welkom bij Op Hodenpijl in Schipluiden voor een Tarot reading. \n\n\n\nTijdens een Tarotsessie krijg je de ruimte om even stil te staan bij jouw leven. Jij bepaalt waar je naar wilt kijken door voor jou belangrijke vragen te stellen. Vragen over relaties\, liefde\, werk en carrière\, persoonlijke ontwikkeling\, situaties in je leven\, te nemen besluiten of andere thema’s die spelen. Bij iedere kaart die jij trekt\, geef ik uitleg over de betekenis en deel ik boodschappen die ik via ‘channeling’ doorkrijg.  Deze boodschappen zijn verhelderend\, troostend\, vernieuwend\, motiverend en praktisch toepasbaar. Vaak zijn ze ook een bevestiging van wat je ergens al diep van binnen weet. \n\n\n\nEen kaartlezing is een bijzondere ervaring. Je ontvangt inzichten die je helpen om gebeurtenissen een plek te geven\, oude blokkades en patronen te doorbreken\, belangrijke besluiten te nemen en jouw leven richting te geven. Tijdens een sessie wordt er vaak op een dieper niveau iets aangeraakt wat daarna verder mag doorwerken in jou. Je kunt de sessie opnemen om later opnieuw terug te luisteren.Wil je helderheid in een bepaald thema of heb je verschillende vragen? Weet je niet welke stap(pen) op dit moment te maken? Of ben je gewoon nieuwsgierig? Je bent van harte welkom! \n\n\n\nTijden \n\n\n\nSessie 1 – 10:00 – 10:45Sessie 2 – 11:00 – 11:45Sessie 3 – 12:00 – 12:45Sessie 4 – 13:00 – 13:45 \n\n\n\nKosten \n\n\n\nDe kosten zijn 44 euro voor een individuele Tarotsessie van 45 minuten. \n\n\n\nReserveren \n\n\n\nMail naar info@innerlightbyeve.nl
URL:https://innerlightbyeve.nl/agenda/tarotsessie-op-hodenpijl-19/
LOCATION:Op Hodenpijl\, Rijksstraatweg 20-22\, Schipluiden\, 2636 AX\, Nederland
ATTACH;FMTTYPE=image/jpeg:https://innerlightbyeve.nl/wp-content/uploads/2023/05/DSC00547-scaled.jpg
END:VEVENT
BEGIN:VEVENT
DTSTART;TZID=Europe/Helsinki:20240804T100000
DTEND;TZID=Europe/Helsinki:20240804T140000
DTSTAMP:20260421T030425
CREATED:20221219T133307Z
LAST-MODIFIED:20240404T081122Z
UID:1317-1722765600-1722780000@innerlightbyeve.nl
SUMMARY:Tarotsessie Op Hodenpijl
DESCRIPTION:Op zondag 4 augustus ben je welkom bij Op Hodenpijl in Schipluiden voor een tarotlezing.Tarotkaarten worden van oudsher gebruikt om ons verlangen te bevredigen naar begrip van het verleden\, of om de toekomst te voorspellen. Ik maak gebruik van Osho Zen tarot kaarten. Dit Tarot geeft vooral inzicht in het hier-en-nu. Het is gebaseerd op de oude wijsheid van Zen: een wijsheid die stelt dat de gebeurtenissen om ons heen een weerspiegeling zijn van onze eigen gedachten en gevoelens. Het Zen Tarot helpt te focussen op wat er in jezelf afspeelt\, in plaats van op gebeurtenissen buiten jezelf. \n\n\n\nTijdens een kaartlegging help ik je graag met het verkrijgen van helderheid\, begrip en inzicht in belangrijke levensvragen of moeilijke situaties. De kaarten brengen je in contact met je gevoel\, intuïtie\, compassie en kracht. De nadruk tijdens de kaartlegging ligt vooral op het innerlijk bewust worden. \n\n\n\nTijdens een kaartlegging krijg je de ruimte om vrijuit vragen te stellen. Via de kaarten wordt duidelijk wat er bewust en onbewust speelt rondom een thema en wat op dit moment aandacht nodig heeft. Iedere kaart die over een bepaalde kwestie getrokken wordt\, vormt een rechtstreekse afspiegeling van wat je nu even niet kunt of wilt inzien. Op basis van de verkregen inzichten kun je vervolgens zelf verdere besluiten nemen en je richting bepalen.Wil je helderheid in een bepaald thema of heb je verschillende vragen? Weet je niet welke stap(pen) op dit moment te maken? Of ben je gewoon nieuwsgierig? Je bent van harte welkom! \n\n\n\nTijden \n\n\n\nSessie 1 – 10:00-10:45Sessie 2 – 11:00-11:45Sessie 3 – 12:00-12:45Sessie 4 – 13:00-13:45 \n\n\n\nKosten \n\n\n\nDe kosten zijn 44 euro voor een individuele Tarotsessie van 45 minuten. \n\n\n\nReserveren \n\n\n\nMail naar info@innerlightbyeve.nl
URL:https://innerlightbyeve.nl/agenda/tarotsessie-op-hodenpijl-12/
LOCATION:Op Hodenpijl\, Rijksstraatweg 20-22\, Schipluiden\, 2636 AX\, Nederland
ATTACH;FMTTYPE=image/jpeg:https://innerlightbyeve.nl/wp-content/uploads/2022/12/the-rebel-aangepast.jpg
END:VEVENT
BEGIN:VEVENT
DTSTART;TZID=Europe/Helsinki:20240816T090000
DTEND;TZID=Europe/Helsinki:20240818T190000
DTSTAMP:20260421T030425
CREATED:20230503T130321Z
LAST-MODIFIED:20240404T084443Z
UID:1410-1723798800-1724007600@innerlightbyeve.nl
SUMMARY:Tarot @ Happy Spirit Days Festival
DESCRIPTION:Op 16\, 17 en 18 augustus ben ik aanwezig op de Happy Spirit Days voor individuele Tarotsessies.Dit is het festival voor wie zich wil onderdompelen in de wereld van yoga\, filosofie\, bewustzijn\, mindfulness\, meditatie en meer. Of je nu dagelijks mediteert of nog nooit op de yogamat gezeten hebt: hier vind je inspiratie voor hart en hoofd\, met beide benen in het boerderijgras. Een toegankelijk festival waar iedereen zich thuis voelt en je ook nog eens nieuwe inspiratie opdoet. Er zijn tal van mooie activiteiten\, bijzondere sprekers\, lekker eten en een bazaar voor leuke items. Voor meer info en tickets: https://happyspiritdays.nl/. \n\n\n\nDe Tarot readings zin niet inbegrepen in de ticketprijs. \n\n\n\nIk hoop je daar te zien!
URL:https://innerlightbyeve.nl/agenda/tarot-op-happy-spirit-days-festival/
LOCATION:Op Hodenpijl\, Rijksstraatweg 20-22\, Schipluiden\, 2636 AX\, Nederland
ATTACH;FMTTYPE=image/png:https://innerlightbyeve.nl/wp-content/uploads/2023/05/Knipsel-4-768x519-1.png
END:VEVENT
BEGIN:VEVENT
DTSTART;TZID=Europe/Helsinki:20240915T100000
DTEND;TZID=Europe/Helsinki:20240915T140000
DTSTAMP:20260421T030425
CREATED:20221219T133536Z
LAST-MODIFIED:20240404T081338Z
UID:1321-1726394400-1726408800@innerlightbyeve.nl
SUMMARY:Tarotsessie Op Hodenpijl
DESCRIPTION:Op zondag 15 september ben ik te gast bij Op Hodenpijl in Schipluiden.Ik werk met het ‘Zen Tarot’ dat zich richt op het hier en nu en innerlijke bewustwording. De kaarten vertellen je niet wat of wanneer iets gaat gebeuren\, maar geven je inzicht in de weg ernaar toe. De kaarten zijn laagdrempelig en goed te begrijpen door de mooie afbeeldingen en symbolische woorden die erop staan.Tijdens een Tarot consult kun je vragen te stellen over alles wat er speelt in jouw leven. Bij iedere kaart die jij trekt\, krijg je uitleg over de betekenis en deel ik boodschappen die ik doorkrijg. Tevens wordt je in contact gebracht met je gevoel\, intuïtie en innerlijke kracht en waarheid.Een Tarot lezing is een bijzondere ervaring die vaak dieper doorwerkt. De verkregen inzichten nodigen je uit om dingen een plek te geven\, oude patronen te doorbreken\, belangrijke besluiten te nemen en je eigen richting te bepalen. \n\n\n\nWil je meer inzicht in een bepaald thema\, heb je verschillende vragen of ben je gewoon nieuwsgierig? Je bent van harte welkom! \n\n\n\nTijden \n\n\n\nSessie 1 – 10:00-10:45Sessie 2 – 11:00-11:45Sessie 3 – 12:00-12:45Sessie 4 – 13:00-13:45 \n\n\n\nKosten \n\n\n\nDe kosten zijn 44 euro voor een individuele Tarotsessie van 45 minuten. \n\n\n\nReserveren \n\n\n\nMail naar info@innerlightbyeve.nl
URL:https://innerlightbyeve.nl/agenda/tarotsessie-op-hodenpijl-13/
LOCATION:Op Hodenpijl\, Rijksstraatweg 20-22\, Schipluiden\, 2636 AX\, Nederland
ATTACH;FMTTYPE=image/jpeg:https://innerlightbyeve.nl/wp-content/uploads/2022/12/the-dream.jpg
END:VEVENT
BEGIN:VEVENT
DTSTART;TZID=Europe/Helsinki:20241013T100000
DTEND;TZID=Europe/Helsinki:20241013T140000
DTSTAMP:20260421T030425
CREATED:20221219T133831Z
LAST-MODIFIED:20240404T081651Z
UID:1323-1728813600-1728828000@innerlightbyeve.nl
SUMMARY:Tarotsessie Op Hodenpijl
DESCRIPTION:Op zondag 13 oktober ben je van harte welkom bij Op Hodenpijl in Schipluiden voor een Tarot reading. \n\n\n\nTijdens een Tarotsessie krijg je de ruimte om even stil te staan bij jouw leven. Jij bepaalt waar je naar wilt kijken door voor jou belangrijke vragen te stellen. Vragen over relaties\, liefde\, werk en carrière\, persoonlijke ontwikkeling\, situaties in je leven\, te nemen besluiten of andere thema’s die spelen. Bij iedere kaart die jij trekt\, geef ik uitleg over de betekenis en deel ik boodschappen die ik via ‘channeling’ doorkrijg.  Deze boodschappen zijn verhelderend\, troostend\, vernieuwend\, motiverend en praktisch toepasbaar. Vaak zijn ze ook een bevestiging van wat je ergens al diep van binnen weet. \n\n\n\nEen kaartlezing is een bijzondere ervaring. Je ontvangt inzichten die je helpen om gebeurtenissen een plek te geven\, oude blokkades en patronen te doorbreken\, belangrijke besluiten te nemen en jouw leven richting te geven. Tijdens een sessie wordt er vaak op een dieper niveau iets aangeraakt wat daarna verder mag doorwerken in jou. Je kunt de sessie opnemen om later opnieuw terug te luisteren.Wil je helderheid in een bepaald thema of heb je verschillende vragen? Weet je niet welke stap(pen) op dit moment te maken? Of ben je gewoon nieuwsgierig? Je bent van harte welkom! \n\n\n\nTijden \n\n\n\nSessie 1 – 10:00-10:45Sessie 2 – 11:00-11:45Sessie 3 – 12:00-12:45Sessie 4 – 13:00-13:45 \n\n\n\nKosten \n\n\n\nDe kosten zijn 44 euro voor een individuele Tarotsessie van 45 minuten. \n\n\n\nReserveren \n\n\n\nMail naar info@innerlightbyeve.nl
URL:https://innerlightbyeve.nl/agenda/tarotsessie-op-hodenpijl-14/
LOCATION:Op Hodenpijl\, Rijksstraatweg 20-22\, Schipluiden\, 2636 AX\, Nederland
ATTACH;FMTTYPE=image/jpeg:https://innerlightbyeve.nl/wp-content/uploads/2022/12/foto-Tarot-3.jpg-juiste-formaat.jpg
END:VEVENT
BEGIN:VEVENT
DTSTART;TZID=Europe/Helsinki:20241023T200000
DTEND;TZID=Europe/Helsinki:20241023T210000
DTSTAMP:20260421T030425
CREATED:20241011T071901Z
LAST-MODIFIED:20241011T071903Z
UID:1648-1729713600-1729717200@innerlightbyeve.nl
SUMMARY:Bewustzijnsavond @ Maasland
DESCRIPTION:Wil je graag kennismaken met de Tarot? \n\n\n\nOp woensdagavond 23 oktober ben ik bij de ‘De Bewuste Leeuw’\, een maandelijkse bewustzijnsavond in Maasland met steeds een ander thema. Tijdens de komende bijeenkomst geef ik een mini Tarotworkshop. \n\n\n\nNa een korte uitleg over de opbouw van de Tarot\, leer je Tarotkaarten lezen via associatie en het gebruik van je  intuïtie. Dit doen we via verschillende oefeningen in combibatie met met een meditatie/visualisatie. Na de oefeningen bespreken we de opgedane inzichten en ervaringen. Ook is er ruimte voor eventuele vragen. \n\n\n\nInloop 19:45uStart 20:00uEinde 21:00u \n\n\n\nNieuwe locatie:Oostgaag 43MaaslandBoerderij Gaaglust \n\n\n\nKosten €10\,00 p.p. via tikkie achteraf. \n\n\n\nAanmelding via: info@innerlightbyeve.nl
URL:https://innerlightbyeve.nl/agenda/bewustzijnsavond-maasland-2/
LOCATION:boerderij gaaglust\, Oostgaag 43\, Maasland\, 3155 CE\, Nederland
ATTACH;FMTTYPE=image/jpeg:https://innerlightbyeve.nl/wp-content/uploads/2022/12/DSC00481.jpg
END:VEVENT
BEGIN:VEVENT
DTSTART;TZID=Europe/Helsinki:20241117T080000
DTEND;TZID=Europe/Helsinki:20241117T140000
DTSTAMP:20260421T030425
CREATED:20221219T134123Z
LAST-MODIFIED:20240404T082926Z
UID:1327-1731830400-1731852000@innerlightbyeve.nl
SUMMARY:Tarotsessie Op Hodenpijl
DESCRIPTION:Op zondag 17 november ben je welkom bij Op Hodenpijl in Schipluiden voor een tarotlezing. \n\n\n\nAls het leven ons met vragen en onzekerheden vult\, gaan we op zoek naar antwoorden. We vragen ons af wat er in de toekomst gaat gebeuren en willen het verleden verklaren. Dat is de manier waarop traditionele tarotkaarten vaak worden gebruikt. \n\n\n\nIk werk met het Osho Zen Tarot dat zich richt op het hier en nu. Het is gebaseerd op de Zen wijsheid die ons vertelt dat gebeurtenissen in de buitenwereld onze eigen gedachten en gevoelens reflecteren. Zen tarot helpt om de aandacht af te wenden van wat er buiten ons gebeurt en brengt je in contact met wat er in je hart afspeelt. \n\n\n\nTijdens een tarotkaart consult is er ruimte om vragen te stellen over alles wat op dit moment speelt in je leven. Bij iedere kaart die jij trekt\, deel ik de boodschappen die doorkrijg en geef ik uitleg. De betekenis van de kaarten is makkelijk te begrijpen door haar symbolische afbeeldingen en woorden. Gedurende de sessie breng ik je ook in contact met je gevoel\, intuïtie en innerlijke kracht en waarheid. De nadruk ligt op het innerlijk bewust worden. \n\n\n\nEen tarotkaart lezing brengt begrip en inzicht in belangrijke levensvragen of lastige situaties. De verkregen inzichten nodigen je uit om dingen een plek te geven\, oude patronen te doorbreken\, belangrijke besluiten te nemen en je eigen richting te bepalen. \n\n\n\nTijden \n\n\n\nSessie 1 – 10:00-10:45Sessie 2 – 11:00-11:45Sessie 3 – 12:00-12:45Sessie 4 – 13:00-13:45 \n\n\n\nKosten \n\n\n\nDe kosten zijn 44 euro voor een individuele Tarotsessie van 45 minuten. \n\n\n\nReserveren \n\n\n\nMail naar info@innerlightbyeve.nl
URL:https://innerlightbyeve.nl/agenda/tarotsessie-op-hodenpijl-15/
LOCATION:Op Hodenpijl\, Rijksstraatweg 20-22\, Schipluiden\, 2636 AX\, Nederland
ATTACH;FMTTYPE=image/jpeg:https://innerlightbyeve.nl/wp-content/uploads/2022/12/turning-in.jpg
END:VEVENT
BEGIN:VEVENT
DTSTART;TZID=Europe/Helsinki:20241208T100000
DTEND;TZID=Europe/Helsinki:20241208T140000
DTSTAMP:20260421T030425
CREATED:20221219T140113Z
LAST-MODIFIED:20240404T082025Z
UID:1340-1733652000-1733666400@innerlightbyeve.nl
SUMMARY:Tarotsessie Op Hodenpijl
DESCRIPTION:Op zondag 8 december ben je van harte welkom bij Op Hodenpijl in Schipluiden voor een Tarot reading. \n\n\n\nIk werk met het ‘Zen Tarot’ dat zich richt op het hier en nu en innerlijke bewustwording. De kaarten vertellen je niet wat of wanneer iets gaat gebeuren\, maar geven je inzicht in de weg ernaar toe.Tijdens een Tarot consult kun je vragen stellen over alles wat er speelt in jouw leven. Bij iedere kaart die jij trekt\, krijg je uitleg over de betekenis en deel ik boodschappen die ik doorkrijg. Tevens wordt je in contact gebracht met emotie\, intuïtie en innerlijke kracht en waarheid.Een Tarot lezing is een bijzondere ervaring die vaak dieper doorwerkt. Via de 79 prachtig geïllustreerde Tarotkaarten kom je spelenderwijs tot de mooiste inzichten. De verkregen inzichten helpen je om dingen een plek te geven\, oude patronen te doorbreken\, belangrijke besluiten te nemen en richting te bepalen. \n\n\n\nWil je meer inzicht in een bepaald thema\, heb je verschillende vragen of ben je gewoon nieuwsgierig? Je bent van harte welkom! \n\n\n\nTijden \n\n\n\nSessie 1 – 10:00-10:45Sessie 2 – 11:00-11:45Sessie 3 – 12:00-12:45Sessie 4 – 13:00-13:45 \n\n\n\nKosten \n\n\n\nDe kosten zijn 44 euro voor een individuele Tarotsessie van 45 minuten. \n\n\n\nReserveren \n\n\n\nMail naar info@innerlightbyeve.nl
URL:https://innerlightbyeve.nl/agenda/1340/
LOCATION:Op Hodenpijl\, Rijksstraatweg 20-22\, Schipluiden\, 2636 AX\, Nederland
ATTACH;FMTTYPE=image/jpeg:https://innerlightbyeve.nl/wp-content/uploads/2022/12/DSC00495.jpg
END:VEVENT
END:VCALENDAR