BEGIN:VCALENDAR
VERSION:2.0
PRODID:-//InnerlightbyEve - ECPv6.3.7//NONSGML v1.0//EN
CALSCALE:GREGORIAN
METHOD:PUBLISH
X-WR-CALNAME:InnerlightbyEve
X-ORIGINAL-URL:https://innerlightbyeve.nl
X-WR-CALDESC:Evenementen voor InnerlightbyEve
REFRESH-INTERVAL;VALUE=DURATION:PT1H
X-Robots-Tag:noindex
X-PUBLISHED-TTL:PT1H
BEGIN:VTIMEZONE
TZID:Europe/Helsinki
BEGIN:DAYLIGHT
TZOFFSETFROM:+0200
TZOFFSETTO:+0300
TZNAME:EEST
DTSTART:20240331T010000
END:DAYLIGHT
BEGIN:STANDARD
TZOFFSETFROM:+0300
TZOFFSETTO:+0200
TZNAME:EET
DTSTART:20241027T010000
END:STANDARD
END:VTIMEZONE
BEGIN:VEVENT
DTSTART;TZID=Europe/Helsinki:20240704T190000
DTEND;TZID=Europe/Helsinki:20240704T220000
DTSTAMP:20260420T151459
CREATED:20240514T091645Z
LAST-MODIFIED:20240514T091646Z
UID:1644-1720119600-1720130400@innerlightbyeve.nl
SUMMARY:Tarot workshop met Anne & Eva
DESCRIPTION:De wereld van Tarot \n\n\n\nWanneer / 4 juli 19:00 – 22:00Wat mee te nemen / je eigen set tarotkaartenInvestering / 66 euroLocatie / Clingendael\, Den Haag \n\n\n\nHeb je thuis een set tarotkaarten liggen en altijd je er altijd al in willen verdiepen maar weet je niet zo goed waar te beginnen? Of doe je vaak leggingen voor jezelf\, maar vind je het spannend om leggingen aan anderen te geven? Op donderdagavond 4 juli kun je een diepere band tussen jou en je kaarten ontwikkelen. \n\n\n\nWe zijn blij om je te verwelkomen op deze bijzondere avond waar we samen in de prachtige wereld van Tarot gaan duiken. Wij zijn Eva en Anne\, en werken al jaren met Tarotkaarten. In ons eigen leven én die van anderen\, allebei op onze eigen unieke wijze. De kaarten hebben ons al zoveel gebracht. We kijken ernaar uit om onze ervaring en kennis met jullie te delen. We nemen je mee in een reis naar binnen\, vanuit die krachtige verbinding met jezelf kan jij op deze avond jouw eigen unieke wijze van tarotleggingen ontdekken. \n\n\n\n> Raak geinspireerd door leuke\, speelse oefeningen met de tarotkaarten.> Leer jezelf beter kennen door intuitief en interactief met de kaarten bezig te zijn.> Doe ervaring op met leggingen geven door met elkaar op speelse wijze te oefenen. \n\n\n\nJe gaat naar huis met verdiepende opdrachten\, een gevoel van verbinding tussen jezelf en je kaarten en met zelfvertrouwen om de kaarten in je eigen leven te gebruiken én anderen ermee te helpen en te inspireren. \n\n\n\nKom je ook? Stuur een berichtje om een plekje te reserveren voor deze avond. We werken graag met een kleine groep van maximaal 6 personen/ \n\n\n\nWarme groet\, Eva & Anne
URL:https://innerlightbyeve.nl/agenda/tarot-workshop-met-anne-eva/
LOCATION:Benoordenhout\, Benoordenhout\, Den Haag\, Zuid-Holland\, Nederland
ATTACH;FMTTYPE=image/jpeg:https://innerlightbyeve.nl/wp-content/uploads/2024/05/Anne-Eva.jpg
END:VEVENT
END:VCALENDAR