BEGIN:VCALENDAR
VERSION:2.0
PRODID:-//InnerlightbyEve - ECPv6.3.7//NONSGML v1.0//EN
CALSCALE:GREGORIAN
METHOD:PUBLISH
X-WR-CALNAME:InnerlightbyEve
X-ORIGINAL-URL:https://innerlightbyeve.nl
X-WR-CALDESC:Evenementen voor InnerlightbyEve
REFRESH-INTERVAL;VALUE=DURATION:PT1H
X-Robots-Tag:noindex
X-PUBLISHED-TTL:PT1H
BEGIN:VTIMEZONE
TZID:Europe/Helsinki
BEGIN:DAYLIGHT
TZOFFSETFROM:+0200
TZOFFSETTO:+0300
TZNAME:EEST
DTSTART:20230326T010000
END:DAYLIGHT
BEGIN:STANDARD
TZOFFSETFROM:+0300
TZOFFSETTO:+0200
TZNAME:EET
DTSTART:20231029T010000
END:STANDARD
END:VTIMEZONE
BEGIN:VEVENT
DTSTART;TZID=Europe/Helsinki:20230604T110000
DTEND;TZID=Europe/Helsinki:20230604T200000
DTSTAMP:20260422T183013
CREATED:20230503T123643Z
LAST-MODIFIED:20230503T123906Z
UID:1403-1685876400-1685908800@innerlightbyeve.nl
SUMMARY:Tarot op het Oker Festival
DESCRIPTION:Zondag 4 juni ben ik aanwezig op het Oker festival voor individuele Tarotsessies aan de bezoekers! \n\n\n\nOp de fijne\, groene locatie van Oker ben je van 11.00-20.00 uur welkom om jezelf onder te dompelen in diverse yogalessen\, workshop en korte privé sessies. Ook kun je struinen langs leuke kraampjes\, smullen van healthy food en jezelf laten inspireren door Mohammed van @poweracademy_nl of genieten van het sound healing concert van @ilseoversier. En nog heel veel meer… Voor meer informatie en tickets: https://oker015.nl/. \n\n\n\nVoor de Tarotsessie betaal je een aparte bijdrage.  \n\n\n\nIk hoop je daar te ontmoeten!
URL:https://innerlightbyeve.nl/agenda/tarot-op-het-oker-festival/
LOCATION:Oker015\, Rijksstraatweg\, Schipluiden\, 2636 AX
ATTACH;FMTTYPE=image/png:https://innerlightbyeve.nl/wp-content/uploads/2023/05/Knipsel-4-768x519-1.png
END:VEVENT
END:VCALENDAR