BEGIN:VCALENDAR
VERSION:2.0
PRODID:-//InnerlightbyEve - ECPv6.3.7//NONSGML v1.0//EN
CALSCALE:GREGORIAN
METHOD:PUBLISH
X-WR-CALNAME:InnerlightbyEve
X-ORIGINAL-URL:https://innerlightbyeve.nl
X-WR-CALDESC:Evenementen voor InnerlightbyEve
REFRESH-INTERVAL;VALUE=DURATION:PT1H
X-Robots-Tag:noindex
X-PUBLISHED-TTL:PT1H
BEGIN:VTIMEZONE
TZID:Europe/Helsinki
BEGIN:DAYLIGHT
TZOFFSETFROM:+0200
TZOFFSETTO:+0300
TZNAME:EEST
DTSTART:20230326T010000
END:DAYLIGHT
BEGIN:STANDARD
TZOFFSETFROM:+0300
TZOFFSETTO:+0200
TZNAME:EET
DTSTART:20231029T010000
END:STANDARD
END:VTIMEZONE
BEGIN:VEVENT
DTSTART;TZID=Europe/Helsinki:20230312T140000
DTEND;TZID=Europe/Helsinki:20230312T180000
DTSTAMP:20260423T072044
CREATED:20221219T131312Z
LAST-MODIFIED:20230119T152445Z
UID:1294-1678629600-1678644000@innerlightbyeve.nl
SUMMARY:Tarotsessie Op Hodenpijl
DESCRIPTION:Op zondag 12 maart ben ik te gast bij Op Hodenpijl in Schipluiden. \n\n\n\nIk werk met het ‘Zen Tarot’ dat zich richt op het hier en nu en innerlijke bewustwording. De kaarten vertellen je niet wat of wanneer iets gaat gebeuren\, maar geven je inzicht in de weg ernaar toe. De kaarten zijn laagdrempelig en goed te begrijpen door de mooie afbeeldingen en symbolische woorden die erop staan.Tijdens een Tarot consult kun je vragen te stellen over alles wat er speelt in jouw leven. Bij iedere kaart die jij trekt\, krijg je uitleg over de betekenis en deel ik boodschappen die ik doorkrijg. Tevens wordt je in contact gebracht met je gevoel\, intuïtie en innerlijke kracht en waarheid.Een Tarot lezing is een bijzondere ervaring die vaak dieper doorwerkt. De verkregen inzichten nodigen je uit om dingen een plek te geven\, oude patronen te doorbreken\, belangrijke besluiten te nemen en je eigen richting te bepalen. \n\n\n\nWil je meer inzicht in een bepaald thema\, heb je verschillende vragen of ben je gewoon nieuwsgierig? Je bent van harte welkom! \n\n\n\nTijden \n\n\n\nSessie 1 – 14:00-14:45Sessie 2 – 15:00-15:45Sessie 3 – 16:00-16:45Sessie 4 – 17:00-17:45 \n\n\n\nKosten \n\n\n\nDe kosten zijn 39 euro voor een individuele Tarotsessie van 45 minuten. \n\n\n\nReserveren \n\n\n\nMail naar info@innerlightbyeve.nl
URL:https://innerlightbyeve.nl/agenda/tarotsessie-op-hodenpijl-7/
LOCATION:Op Hodenpijl\, Rijksstraatweg 20-22\, Schipluiden\, 2636 AX\, Nederland
ATTACH;FMTTYPE=image/jpeg:https://innerlightbyeve.nl/wp-content/uploads/2022/12/DSC00442.jpg
END:VEVENT
END:VCALENDAR