BEGIN:VCALENDAR
VERSION:2.0
PRODID:-//InnerlightbyEve - ECPv6.3.7//NONSGML v1.0//EN
CALSCALE:GREGORIAN
METHOD:PUBLISH
X-WR-CALNAME:InnerlightbyEve
X-ORIGINAL-URL:https://innerlightbyeve.nl
X-WR-CALDESC:Evenementen voor InnerlightbyEve
REFRESH-INTERVAL;VALUE=DURATION:PT1H
X-Robots-Tag:noindex
X-PUBLISHED-TTL:PT1H
BEGIN:VTIMEZONE
TZID:Europe/Helsinki
BEGIN:DAYLIGHT
TZOFFSETFROM:+0200
TZOFFSETTO:+0300
TZNAME:EEST
DTSTART:20230326T010000
END:DAYLIGHT
BEGIN:STANDARD
TZOFFSETFROM:+0300
TZOFFSETTO:+0200
TZNAME:EET
DTSTART:20231029T010000
END:STANDARD
END:VTIMEZONE
BEGIN:VEVENT
DTSTART;TZID=Europe/Helsinki:20230219T140000
DTEND;TZID=Europe/Helsinki:20230219T180000
DTSTAMP:20260423T072525
CREATED:20221219T130600Z
LAST-MODIFIED:20221219T131518Z
UID:1289-1676815200-1676829600@innerlightbyeve.nl
SUMMARY:Tarotsessie Op Hodenpijl
DESCRIPTION:Op zondag 19 februari ben je welkom bij Op Hodenpijl in Schipluiden voor een tarotlezing. \n\n\n\nTarotkaarten worden van oudsher gebruikt om ons verlangen te bevredigen naar begrip van het verleden\, of om de toekomst te voorspellen. Ik maak gebruik van Osho Zen tarot kaarten. Dit Tarot geeft vooral inzicht in het hier-en-nu. Het is gebaseerd op de oude wijsheid van Zen: een wijsheid die stelt dat de gebeurtenissen om ons heen een weerspiegeling zijn van onze eigen gedachten en gevoelens. Het Zen Tarot helpt te focussen op wat er in jezelf afspeelt\, in plaats van op gebeurtenissen buiten jezelf. \n\n\n\nTijdens een kaartlegging help ik je graag met het verkrijgen van helderheid\, begrip en inzicht in belangrijke levensvragen of moeilijke situaties. De kaarten brengen je in contact met je gevoel\, intuïtie\, compassie en kracht. De nadruk tijdens de kaartlegging ligt vooral op het innerlijk bewust worden. \n\n\n\nTijdens een kaartlegging krijg je de ruimte om vrijuit vragen te stellen. Via de kaarten wordt duidelijk wat er bewust en onbewust speelt rondom een thema en wat op dit moment aandacht nodig heeft. Iedere kaart die over een bepaalde kwestie getrokken wordt\, vormt een rechtstreekse afspiegeling van wat je nu even niet kunt of wilt inzien. Op basis van de verkregen inzichten kun je vervolgens zelf verdere besluiten nemen en je richting bepalen.Wil je helderheid in een bepaald thema of heb je verschillende vragen? Weet je niet welke stap(pen) op dit moment te maken? Of ben je gewoon nieuwsgierig? Je bent van harte welkom! \n\n\n\nTijden \n\n\n\nSessie 1 – 14:00-14:45Sessie 2 – 15:00-15:45Sessie 3 – 16:00-16:45Sessie 4 – 17:00-17:45 \n\n\n\nKosten \n\n\n\nDe kosten zijn 39 euro voor een individuele Tarotsessie van 45 minuten. \n\n\n\nReserveren \n\n\n\nMail naar info@innerlightbyeve.nl
URL:https://innerlightbyeve.nl/agenda/tarotsessie-op-hodenpijl-6/
LOCATION:Op Hodenpijl\, Rijksstraatweg 20-22\, Schipluiden\, 2636 AX\, Nederland
ATTACH;FMTTYPE=image/jpeg:https://innerlightbyeve.nl/wp-content/uploads/2022/12/verkleind-4.jpg
END:VEVENT
END:VCALENDAR