BEGIN:VCALENDAR
VERSION:2.0
PRODID:-//InnerlightbyEve - ECPv6.3.7//NONSGML v1.0//EN
CALSCALE:GREGORIAN
METHOD:PUBLISH
X-WR-CALNAME:InnerlightbyEve
X-ORIGINAL-URL:https://innerlightbyeve.nl
X-WR-CALDESC:Evenementen voor InnerlightbyEve
REFRESH-INTERVAL;VALUE=DURATION:PT1H
X-Robots-Tag:noindex
X-PUBLISHED-TTL:PT1H
BEGIN:VTIMEZONE
TZID:Europe/Helsinki
BEGIN:DAYLIGHT
TZOFFSETFROM:+0200
TZOFFSETTO:+0300
TZNAME:EEST
DTSTART:20220327T010000
END:DAYLIGHT
BEGIN:STANDARD
TZOFFSETFROM:+0300
TZOFFSETTO:+0200
TZNAME:EET
DTSTART:20221030T010000
END:STANDARD
END:VTIMEZONE
BEGIN:VEVENT
DTSTART;TZID=Europe/Helsinki:20220624T200000
DTEND;TZID=Europe/Helsinki:20220624T213000
DTSTAMP:20260425T013434
CREATED:20220524T161814Z
LAST-MODIFIED:20220524T162053Z
UID:976-1656100800-1656106200@innerlightbyeve.nl
SUMMARY:Groepsmeditatie 24 juni
DESCRIPTION:Op vrijdagavond 24 juni ben je welkom voor een groepsmeditatie in Den Haag. \n\n\n\nHeb je behoefte aan rust in je hoofd?Wil je je concentratie en focus verbeteren?Heb je het gevoel dat je vastloopt in patronen en wil je nieuwe inzichten verkrijgen?Verlang je naar rust in je lichaam?Wil je leven vanuit acceptatie?Heb je interesse in spiritualiteit en sta je open voor contact met andere bewustzijnsniveaus? \n\n\n\nJe bent van harte welkom om te ervaren wat meditatie voor jou kan betekenen of om jouw meditatie verder te verdiepen. \n\n\n\nDe groepsmeditaties zijn een innerlijke reis waarin je mag voelen\, ervaren en jezelf mag verwonderen. Ervaar volledige rust en kom tot nieuwe inzichten voorbij de gedachtestroom die constant onze aandacht vraagt. Het mediteren in een groep is een bijzondere ervaring en versterkt het effect van meditatie. \n\n\n\nTijdens iedere bijeenkomst behandel ik een ander thema. Na de meditatie is er ruimte om\, als je daar behoefte aan hebt\, je ervaring te delen en vragen te stellen. \n\n\n\nPraktische informatieDe meditatiebijeenkomsten vinden iedere maand op vrijdag van 20:00 tot 21:30 plaats in Benoordenhout\, Den Haag.Ervaring met meditatie is niet vereist.Trek comfortabele kleding aan.Bijdrage voor deelname: 10 euro.Je kunt je vooraf aanmelden via: info@innerlightbyeve.nl of via het contactformulier op de website.
URL:https://innerlightbyeve.nl/agenda/976/
ATTACH;FMTTYPE=image/jpeg:https://innerlightbyeve.nl/wp-content/uploads/2022/03/Candles-small.jpg
END:VEVENT
END:VCALENDAR