BEGIN:VCALENDAR
VERSION:2.0
PRODID:-//InnerlightbyEve - ECPv6.3.7//NONSGML v1.0//EN
CALSCALE:GREGORIAN
METHOD:PUBLISH
X-ORIGINAL-URL:https://innerlightbyeve.nl
X-WR-CALDESC:Evenementen voor InnerlightbyEve
REFRESH-INTERVAL;VALUE=DURATION:PT1H
X-Robots-Tag:noindex
X-PUBLISHED-TTL:PT1H
BEGIN:VTIMEZONE
TZID:Europe/Helsinki
BEGIN:DAYLIGHT
TZOFFSETFROM:+0200
TZOFFSETTO:+0300
TZNAME:EEST
DTSTART:20220327T010000
END:DAYLIGHT
BEGIN:STANDARD
TZOFFSETFROM:+0300
TZOFFSETTO:+0200
TZNAME:EET
DTSTART:20221030T010000
END:STANDARD
END:VTIMEZONE
BEGIN:VEVENT
DTSTART;TZID=Europe/Helsinki:20220422T200000
DTEND;TZID=Europe/Helsinki:20220422T213000
DTSTAMP:20260424T224731
CREATED:20220312T154857Z
LAST-MODIFIED:20220312T154900Z
UID:901-1650657600-1650663000@innerlightbyeve.nl
SUMMARY:GROEPSMEDITATIE 22 APRIL
DESCRIPTION:Op vrijdagavond 22 april ben je welkom voor een groepsmeditatie in Den Haag. \n\n\n\nHeb je behoefte aan rust in je hoofd?Wil je je concentratie en focus verbeteren?Heb je het gevoel dat je vastloopt in patronen en wil je nieuwe inzichten verkrijgen?Verlang je naar rust in je lichaam?Wil je leren om te leven vanuit acceptatie?Ben je nieuwsgierig naar spiritualiteit en sta je open voor contact met jouw hogere bewustzijn? \n\n\n\nJe bent van harte welkom om te ervaren wat meditatie voor jou kan betekenen of om jouw meditatie verder te verdiepen. \n\n\n\nDe groepsmeditaties zijn een innerlijke reis waarin je mag voelen\, ervaren en jezelf mag verwonderen. Ervaar volledige rust en kom tot nieuwe inzichten voorbij de gedachtestroom die constant onze aandacht vraagt. Het mediteren in een groep is een bijzondere ervaring en kan het effect van meditatie versterken. \n\n\n\nTijdens iedere bijeenkomst behandel ik een ander thema. Na de meditatie is er ruimte om\, als je daar behoefte aan hebt\, je ervaring te delen en vragen te stellen. \n\n\n\nPraktische informatieDe meditatiebijeenkomsten vinden iedere maand plaats in Benoordenhout\, Den Haag.Ervaring met meditatie is niet vereist.Trek comfortabele kleding aan.Bijdrage voor deelname: 10 euro.Je kunt je vooraf aanmelden via: info@innerlightbyeve.nl of via het contactformulier op de website. \n\n\n\nMeditatie is een sprong van het hoofd naar het hart\, van het hart naar je zijn.Logica is daar irrelevant.
URL:https://innerlightbyeve.nl/agenda/meditatie-groep/
ATTACH;FMTTYPE=image/jpeg:https://innerlightbyeve.nl/wp-content/uploads/2022/03/Candles-small.jpg
END:VEVENT
END:VCALENDAR