BEGIN:VCALENDAR
VERSION:2.0
PRODID:-//InnerlightbyEve - ECPv6.3.7//NONSGML v1.0//EN
CALSCALE:GREGORIAN
METHOD:PUBLISH
X-WR-CALNAME:InnerlightbyEve
X-ORIGINAL-URL:https://innerlightbyeve.nl
X-WR-CALDESC:Evenementen voor InnerlightbyEve
REFRESH-INTERVAL;VALUE=DURATION:PT1H
X-Robots-Tag:noindex
X-PUBLISHED-TTL:PT1H
BEGIN:VTIMEZONE
TZID:Europe/Helsinki
BEGIN:DAYLIGHT
TZOFFSETFROM:+0200
TZOFFSETTO:+0300
TZNAME:EEST
DTSTART:20220327T010000
END:DAYLIGHT
BEGIN:STANDARD
TZOFFSETFROM:+0300
TZOFFSETTO:+0200
TZNAME:EET
DTSTART:20221030T010000
END:STANDARD
END:VTIMEZONE
BEGIN:VEVENT
DTSTART;TZID=Europe/Helsinki:20220417T140000
DTEND;TZID=Europe/Helsinki:20220417T180000
DTSTAMP:20260424T225510
CREATED:20220221T222203Z
LAST-MODIFIED:20220312T171859Z
UID:887-1650204000-1650218400@innerlightbyeve.nl
SUMMARY:Tarot consult Op Hodenpijl
DESCRIPTION:Op zondag 17 april ben je welkom bij Op Hodenpijl in Schipluiden voor een tarotlezing. Ik werk met het ‘Zen Tarot’ dat zich richt op het hier en nu en innerlijke bewustwording. De kaarten vertellen je niet wat of wanneer iets gaat gebeuren\, maar geven je inzicht in de weg ernaar toe.Tijdens een Tarot consult kun je vragen te stellen over alles wat er speelt in jouw leven. Bij iedere kaart die jij trekt\, krijg je uitleg over de betekenis en deel ik boodschappen die ik doorkrijg. Tevens wordt je in contact gebracht met je gevoel\, intuïtie en innerlijke kracht en waarheid.Een Tarot lezing is een bijzondere ervaring die vaak dieper doorwerkt. De verkregen inzichten nodigen je uit om dingen een plek te geven\, oude patronen te doorbreken\, belangrijke besluiten te nemen en je eigen richting te bepalen. \n\n\n\nWil je meer inzicht in een bepaald thema\, heb je verschillende vragen of ben je gewoon nieuwsgierig? Je bent van harte welkom! \n\n\n\nDatum en tijd:Kosten: 30 euro (individuele sessie van 45 min.)Informatie: www.innerlightbyeve.nlAanmelding: via info@innerlightbyeve.nl \n\n\n\nDe tarot is een verhalenboek van ons leven\, de spiegel van onze ziel en de sleutel tot onze innerlijke wijsheid. Het is een opening tot je onderbewustzijn en een kans om de kennis en antwoorden te vinden die in jou aanwezig zijn.
URL:https://innerlightbyeve.nl/agenda/tarot-consult-op-hodenpijl/
LOCATION:Op Hodenpijl\, Rijksstraatweg 20-22\, Schipluiden\, 2636 AX\, Nederland
ATTACH;FMTTYPE=image/jpeg:https://innerlightbyeve.nl/wp-content/uploads/2022/02/verkleind-2.jpg
END:VEVENT
END:VCALENDAR